BEGIN:VCALENDAR
VERSION:2.0
PRODID:-//Taylor Family Center for Student Success//NONSGML v1.0//EN
CALSCALE:GREGORIAN
METHOD:PUBLISH
BEGIN:VEVENT
UID:2612-0
SUMMARY:Kessler Scholars Go to Energizer Park: St. Louis CITY vs. San Jose Earthquakes
DTSTART:20260426T003000Z
DTEND:20260426T023000Z
DTSTAMP:20260420T152137Z
LAST-MODIFIED:20260420T152138Z
SEQUENCE:0
LOCATION:Offsite Location
DESCRIPTION:
END:VEVENT
END:VCALENDAR