BEGIN:VCALENDAR
VERSION:2.0
PRODID:-//Taylor Family Center for Student Success//NONSGML v1.0//EN
CALSCALE:GREGORIAN
METHOD:PUBLISH
BEGIN:VEVENT
UID:2613-0
SUMMARY:Kessler End of Year Celebration
DTSTART:20260426T220000Z
DTEND:20260427T000000Z
DTSTAMP:20260420T152350Z
LAST-MODIFIED:20260420T152351Z
SEQUENCE:0
LOCATION:Offsite Location
DESCRIPTION:\nA family style dinner for all Kessler Scholars to build community and meet with Kessler professional staff hosted at Dr. KJ's house.\n
END:VEVENT
END:VCALENDAR